BEGIN:VCALENDAR
VERSION:2.0
PRODID:-//Plone.org//NONSGML plone.app.event//EN
X-WR-TIMEZONE:US/Central
BEGIN:VEVENT
SUMMARY:Hot cocoa and Hot books! for our tweens and teens
DTSTART;TZID=US/Central:20230130T170000
DTEND;TZID=US/Central:20230130T180000
DTSTAMP:20260420T092426Z
UID:917d3e2fa0914dd0a538c494e15c4deb@saas_stack_varnish:6080
CONTACT:Tracy Lambert Jack\, 8174416545\, programs@epclibrary.com
CREATED:20230119T205619Z
DESCRIPTION:Middle and High School Students -- join us on Monday\, January
  30th for an hour of cocoa\, snacks\, and books! Come share your favorite 
 books and/or must reads! We will also chat about upcoming events and volun
 teer opportunities.
LAST-MODIFIED:20230119T205624Z
LOCATION:East Parker County Library
URL:https://eastparkercounty.ploud.net/news-events/lib-cal/hot-cocoa-and-h
 ot-books-for-our-tweens-and-teens
END:VEVENT
BEGIN:VTIMEZONE
TZID:US/Central
X-LIC-LOCATION:US/Central
BEGIN:STANDARD
DTSTART:20221106T010000
TZNAME:CST
TZOFFSETFROM:-0500
TZOFFSETTO:-0600
END:STANDARD
END:VTIMEZONE
END:VCALENDAR
