BEGIN:VCALENDAR
VERSION:2.0
PRODID:-//Plone.org//NONSGML plone.app.event//EN
X-WR-TIMEZONE:US/Central
BEGIN:VEVENT
SUMMARY:Homeschool at the Library
DTSTART;TZID=US/Central:20221216T123000
DTEND;TZID=US/Central:20221216T140000
DTSTAMP:20260420T091632Z
UID:1577f8e011254cef9c5e3d4675cae6df@saas_stack_varnish:6080
CONTACT:Tracy Lambert Jack\, 817-441-6545\, programs@epclibrary.com
CREATED:20221213T174344Z
DESCRIPTION:Join Miss Tracy for this month's homeschool program\, Holiday 
 Traditions Around the World!
LAST-MODIFIED:20221213T174350Z
LOCATION:EPCL
URL:https://eastparkercounty.ploud.net/news-events/lib-cal/homeschool-at-t
 he-library
END:VEVENT
BEGIN:VTIMEZONE
TZID:US/Central
X-LIC-LOCATION:US/Central
BEGIN:STANDARD
DTSTART:20221106T010000
TZNAME:CST
TZOFFSETFROM:-0500
TZOFFSETTO:-0600
END:STANDARD
END:VTIMEZONE
END:VCALENDAR
