BEGIN:VCALENDAR
VERSION:2.0
PRODID:-//Plone.org//NONSGML plone.app.event//EN
X-WR-TIMEZONE:US/Central
BEGIN:VEVENT
SUMMARY:Homeschool at the Library
DTSTART;TZID=US/Central:20230217T123000
DTEND;TZID=US/Central:20230217T140000
DTSTAMP:20260420T105131Z
UID:0b17ca6aa4654dfc8b7730de73e4557a@saas_stack_varnish:6080
CONTACT:Tracy Lambert Jack\, 8174416545\, programs@epclibrary.com
CREATED:20230216T022238Z
DESCRIPTION:Join us at the East Parker County Library this Friday afternoo
 n for our monthly Homeschool at the Library session. We will be learning a
 bout African American Explorers and Artists\, including polar explorer Mat
 thew Henson and painter Alma Thomas\, as well as doing some of our own win
 ter science and printmaking art!
LAST-MODIFIED:20230216T022244Z
LOCATION:East Parker County Library
URL:https://eastparkercounty.ploud.net/news-events/lib-cal/homeschool-at-t
 he-library-2
END:VEVENT
BEGIN:VTIMEZONE
TZID:US/Central
X-LIC-LOCATION:US/Central
BEGIN:STANDARD
DTSTART:20221106T010000
TZNAME:CST
TZOFFSETFROM:-0500
TZOFFSETTO:-0600
END:STANDARD
END:VTIMEZONE
END:VCALENDAR
