BEGIN:VCALENDAR
VERSION:2.0
PRODID:-//Plone.org//NONSGML plone.app.event//EN
X-WR-TIMEZONE:US/Central
BEGIN:VEVENT
SUMMARY:Homeschool at the Library
DTSTART;TZID=US/Central:20230120T123000
DTEND;TZID=US/Central:20230120T140000
DTSTAMP:20260420T091815Z
UID:b387310860ba4b4a85046c0ed7283aa1@saas_stack_varnish:6080
CONTACT:Tracy Lambert Jack\, 8174416545\, programs@epclibrary.com
CREATED:20230119T203422Z
DESCRIPTION:JOIN US EACH 3RD FRIDAY OF THE MONTH FROM 12:30-2PM FOR THEMED
  BOOKS\, STEM ACTIVITIES\, LEGO\, and CRAFTS. JANUARY THEME:  CRYPTOGRAPHY
 \, CODES\, & CIPHERS
LAST-MODIFIED:20230119T203426Z
LOCATION:East Parker County Library
URL:https://eastparkercounty.ploud.net/news-events/lib-cal/homeschool-at-t
 he-library-1
END:VEVENT
BEGIN:VTIMEZONE
TZID:US/Central
X-LIC-LOCATION:US/Central
BEGIN:STANDARD
DTSTART:20221106T010000
TZNAME:CST
TZOFFSETFROM:-0500
TZOFFSETTO:-0600
END:STANDARD
END:VTIMEZONE
END:VCALENDAR
