BEGIN:VCALENDAR
VERSION:2.0
PRODID:-//Plone.org//NONSGML plone.app.event//EN
X-WR-TIMEZONE:US/Central
BEGIN:VEVENT
SUMMARY:EPCL Board Meeting
DTSTART;TZID=US/Central:20221025T180000
DTEND;TZID=US/Central:20221025T200000
DTSTAMP:20260420T104233Z
UID:3413f070c6744b8d856230b6e0ddb107@saas_stack_varnish:6080
CONTACT:Shawna Ford\, 817-441-6545\, president@epclibrary.com
CREATED:20221019T174905Z
LAST-MODIFIED:20221019T174913Z
LOCATION:East Parker County Library
URL:https://eastparkercounty.ploud.net/news-events/lib-cal/epcl-board-meet
 ing
END:VEVENT
BEGIN:VTIMEZONE
TZID:US/Central
X-LIC-LOCATION:US/Central
BEGIN:DAYLIGHT
DTSTART:20220313T030000
TZNAME:CDT
TZOFFSETFROM:-0600
TZOFFSETTO:-0500
END:DAYLIGHT
END:VTIMEZONE
END:VCALENDAR
