BEGIN:VCALENDAR
VERSION:2.0
PRODID:-//Plone.org//NONSGML plone.app.event//EN
X-WR-TIMEZONE:US/Central
BEGIN:VEVENT
SUMMARY:East Parker County Library features The Creature Teacher!
DTSTART;TZID=US/Central:20230602T103000
DTEND;TZID=US/Central:20230602T120000
DTSTAMP:20260420T110351Z
UID:039e6a5e78f84fc9aca5f13be29c7f0f@saas_stack_varnish:6080
CONTACT:Tracy Lambert Jack\, 8174416545\, epclibraryprograms@gmail.com
CREATED:20230601T235301Z
DESCRIPTION:oin us for our ALL TOGETHER NOW summer reading KICK-OFF! We wi
 ll enjoy a wildlife education show with amazing animals that rely on each 
 other for safety\, companionship\, and even keeping clean! Friday\, June 2
 nd at the Aledo Community Center\, 10:30AM. Bring a blanket as we will sit
  on the floor. Have you "Herd" that we're better together?
LAST-MODIFIED:20230601T235311Z
LOCATION:Aledo Community Center
URL:https://eastparkercounty.ploud.net/news-events/lib-cal/east-parker-cou
 nty-library-features-the-creature-teacher
END:VEVENT
BEGIN:VTIMEZONE
TZID:US/Central
X-LIC-LOCATION:US/Central
BEGIN:DAYLIGHT
DTSTART:20230312T030000
TZNAME:CDT
TZOFFSETFROM:-0600
TZOFFSETTO:-0500
END:DAYLIGHT
END:VTIMEZONE
END:VCALENDAR
