BEGIN:VCALENDAR
VERSION:2.0
PRODID:-//Plone.org//NONSGML plone.app.event//EN
X-WR-TIMEZONE:US/Central
BEGIN:VEVENT
SUMMARY:Community Book Sale
DTSTART;TZID=US/Central:20230422T100000
DTEND;TZID=US/Central:20230422T160000
DTSTAMP:20260420T110146Z
UID:055ce8cbcd2347f187f513c1b8e8a267@saas_stack_varnish:6080
CONTACT:Catherine Mason\, 817-441-6545\, libdirector@epclibrary.com
CREATED:20230305T212228Z
DESCRIPTION:Weather permitting\, join us as we support the EPCL with a com
 munity book sale!  Saturday 10-4 in the parking lot at the library.  $1 fo
 r hardback books\, $.50 for paperback books\, or fill a bag for $5!  DVD's
  are also $1.  Hope to see you there!
LAST-MODIFIED:20230331T014549Z
LOCATION:East Parker County Library
URL:https://eastparkercounty.ploud.net/news-events/lib-cal/community-book-
 sale
END:VEVENT
BEGIN:VTIMEZONE
TZID:US/Central
X-LIC-LOCATION:US/Central
BEGIN:DAYLIGHT
DTSTART:20230312T030000
TZNAME:CDT
TZOFFSETFROM:-0600
TZOFFSETTO:-0500
END:DAYLIGHT
END:VTIMEZONE
END:VCALENDAR
