BEGIN:VCALENDAR
VERSION:2.0
PRODID:-//Plone.org//NONSGML plone.app.event//EN
X-WR-TIMEZONE:US/Central
BEGIN:VEVENT
SUMMARY:Book Club Start-Up!
DTSTART;TZID=US/Central:20221117T090000
DTEND;TZID=US/Central:20221117T103000
DTSTAMP:20260420T091633Z
UID:90f5061aef9244aca7c949af96971265@saas_stack_varnish:6080
CONTACT:Tracy Lambert Jack\, 8174416545\, programs@epclibrary.com
CREATED:20221103T173811Z
DESCRIPTION:For our Adults!- Come share what type of book club (or other p
 rograms) you would like to see at your library! Coffee and Tea served.
LAST-MODIFIED:20221103T173825Z
LOCATION:East Parker County Library
URL:https://eastparkercounty.ploud.net/news-events/lib-cal/book-club-start
 -up
END:VEVENT
BEGIN:VTIMEZONE
TZID:US/Central
X-LIC-LOCATION:US/Central
BEGIN:STANDARD
DTSTART:20221106T010000
TZNAME:CST
TZOFFSETFROM:-0500
TZOFFSETTO:-0600
END:STANDARD
END:VTIMEZONE
END:VCALENDAR
