BEGIN:VCALENDAR
VERSION:2.0
PRODID:-//Plone.org//NONSGML plone.app.event//EN
X-WR-TIMEZONE:US/Central
BEGIN:VEVENT
SUMMARY:Book Club at the Library
DTSTART;TZID=US/Central:20230207T090000
DTEND;TZID=US/Central:20230207T103000
DTSTAMP:20260420T110344Z
UID:95e32358909744cc8dd8c58463b8fd88@saas_stack_varnish:6080
CONTACT:Tracy Lambert Jack\, 8174416545\, programs@epclibrary.com
CREATED:20230206T160904Z
DESCRIPTION:Adults! Join us for Book Club! We are reading "The Personal Li
 brarian"\, a novel that tells the remarkable\, little-known story of Belle
  da Costa Greene\, the personal librarian to J. P. Morgan\, as well as the
  first director of the Morgan Library & Museum\, from New York Times bests
 elling author Marie Benedict and acclaimed author Victoria Christopher Mur
 ray.\nThis historical fiction novel is on the 2022 Lariat Adult Fiction Re
 ading List for outstanding fiction published during the year that merits s
 pecial attention from adult readers. Since 2009\, the goal of the Lariat A
 dult Fiction Reading List has been to highlight outstanding fiction that i
 s simply “a pleasure to read.” The book is available in our Parker Cou
 nty Library Association.\nBook Club will meet on Tuesday\, February 7th fr
 om 9-10:30AM. Tea and coffee served!
LAST-MODIFIED:20230206T160959Z
LOCATION:East Parker County Library
URL:https://eastparkercounty.ploud.net/news-events/lib-cal/book-club-at-th
 e-library
END:VEVENT
BEGIN:VTIMEZONE
TZID:US/Central
X-LIC-LOCATION:US/Central
BEGIN:STANDARD
DTSTART:20221106T010000
TZNAME:CST
TZOFFSETFROM:-0500
TZOFFSETTO:-0600
END:STANDARD
END:VTIMEZONE
END:VCALENDAR
