BEGIN:VCALENDAR
VERSION:2.0
PRODID:-//Plone.org//NONSGML plone.app.event//EN
X-WR-TIMEZONE:US/Central
BEGIN:VEVENT
SUMMARY:Board Meeting
DTSTART;TZID=US/Central:20220913T190000
DTEND;TZID=US/Central:20220913T200000
DTSTAMP:20260420T091316Z
UID:004dd1339f2d4702b15ceea49c8e2460@saas_stack_varnish:6080
CONTACT:Shawna Ford\, President@epclibrary.com
CREATED:20220910T201527Z
LAST-MODIFIED:20220910T201542Z
LOCATION:East Parker County Library
URL:https://eastparkercounty.ploud.net/news-events/lib-cal/board-meeting
END:VEVENT
BEGIN:VTIMEZONE
TZID:US/Central
X-LIC-LOCATION:US/Central
BEGIN:DAYLIGHT
DTSTART:20220313T030000
TZNAME:CDT
TZOFFSETFROM:-0600
TZOFFSETTO:-0500
END:DAYLIGHT
END:VTIMEZONE
END:VCALENDAR
