BEGIN:VCALENDAR
VERSION:2.0
PRODID:-//Plone.org//NONSGML plone.app.event//EN
X-WR-TIMEZONE:US/Central
BEGIN:VEVENT
SUMMARY:Arts on the Go Mobile Art Studio
DTSTART;TZID=US/Central:20230603T101500
DTEND;TZID=US/Central:20230603T130000
DTSTAMP:20260420T091815Z
UID:66909e3e347e4efdbb70b252dc32eb54@saas_stack_varnish:6080
CONTACT:Tracy Lambert Jack\, 8174416545\, epclibraryprograms@gmail.com
CREATED:20230602T001721Z
DESCRIPTION:Kids will be making a piece of art! This is an event you need 
 to register to attend. There are 15 slots at each session (10:15AM\, 11:15
 AM\, and 12:15PM). This activity is best enjoyed by friends 4+ years old. 
 You can stop by the library or call to sign up.
LAST-MODIFIED:20230602T001740Z
LOCATION:East Parker County Library
URL:https://eastparkercounty.ploud.net/news-events/lib-cal/arts-on-the-go-
 mobile-art-studio
END:VEVENT
BEGIN:VTIMEZONE
TZID:US/Central
X-LIC-LOCATION:US/Central
BEGIN:DAYLIGHT
DTSTART:20230312T030000
TZNAME:CDT
TZOFFSETFROM:-0600
TZOFFSETTO:-0500
END:DAYLIGHT
END:VTIMEZONE
END:VCALENDAR
