BEGIN:VCALENDAR
VERSION:2.0
PRODID:-//Plone.org//NONSGML plone.app.event//EN
X-WR-TIMEZONE:US/Central
BEGIN:VEVENT
SUMMARY:Kindness in the Community Storytime with Weatherford/Parker Co. An
 imal Shelter
DTSTART;TZID=US/Central:20230616T103000
DTEND;TZID=US/Central:20230616T113000
DTSTAMP:20260420T092435Z
UID:578da412e5a54d21bd841aca91ff6b8b@saas_stack_varnish:6080
CONTACT:Tracy Lambert Jack\, 8174416545\, programs@epclibrary.com
CREATED:20230623T133941Z
DESCRIPTION:We will be reading stories\, learn about the local non-profit/
 service organizations and how we can get involved\, and do an activity/cra
 ft. For the Animal Shelter\, we will be making recycled t-shirt dog toys. 
 These story time events are for ALL AGES and are part of the East Parker C
 ounty Library's ALL TOGETHER NOW summer reading happening now!
LAST-MODIFIED:20230623T133946Z
LOCATION:Aledo Community Center
URL:https://eastparkercounty.ploud.net/news-events/kindness-in-the-communi
 ty-storytime-with-weatherford-parker-co-animal-shelter
END:VEVENT
BEGIN:VTIMEZONE
TZID:US/Central
X-LIC-LOCATION:US/Central
BEGIN:DAYLIGHT
DTSTART:20230312T030000
TZNAME:CDT
TZOFFSETFROM:-0600
TZOFFSETTO:-0500
END:DAYLIGHT
END:VTIMEZONE
END:VCALENDAR
