BEGIN:VCALENDAR
VERSION:2.0
PRODID:-//Plone.org//NONSGML plone.app.event//EN
X-WR-TIMEZONE:US/Central
BEGIN:VEVENT
SUMMARY:Kindness in the Community Storytime with Parker Paws
DTSTART;TZID=US/Central:20230609T103000
DTEND;TZID=US/Central:20230609T113000
DTSTAMP:20260420T094018Z
UID:a987b05c635741db84f57ab908ecfa84@saas_stack_varnish:6080
CONTACT:Tracy Lambert Jack\, 8174416545\, epclibraryprograms@gmail.com
CREATED:20230608T182122Z
DESCRIPTION:We will be reading stories\, learn about the local non-profit/
 service organizations and how we can get involved\, and do an activity/cra
 ft. For Parker Paws\, we will be making no-sew fleece blankets for animals
 . These story time events are for ALL AGES and are part of the East Parker
  County Library's ALL TOGETHER NOW summer reading happening now!
LAST-MODIFIED:20230608T182143Z
LOCATION:Aledo Community Center
URL:https://eastparkercounty.ploud.net/news-events/kindness-in-the-communi
 ty-storytime-with-parker-paws
END:VEVENT
BEGIN:VTIMEZONE
TZID:US/Central
X-LIC-LOCATION:US/Central
BEGIN:DAYLIGHT
DTSTART:20230312T030000
TZNAME:CDT
TZOFFSETFROM:-0600
TZOFFSETTO:-0500
END:DAYLIGHT
END:VTIMEZONE
END:VCALENDAR
