BEGIN:VCALENDAR
VERSION:2.0
PRODID:-//Plone.org//NONSGML plone.app.event//EN
X-WR-TIMEZONE:US/Central
BEGIN:VEVENT
SUMMARY:EPC Library presents James Wand\, SPY MAGICIAN!
DTSTART;TZID=US/Central:20230630T103000
DTEND;TZID=US/Central:20230630T113000
DTSTAMP:20260420T092246Z
UID:79a6add4e6074a2f88b5ca6b2b84fc4d@saas_stack_varnish:6080
CONTACT:Tracy Lambert Jack\, 8174416545\, programs@epclibrary.com
CREATED:20230630T123217Z
DESCRIPTION:Your mission (should you choose to accept it) is to join James
  Wand\, SPY MAGICIAN\, at the Aledo Community Center on an exciting and hi
 larious adventure of magic and mystery. Help James Wand solve clues and se
 cret codes. Prepare to be amazed by the most incredible magic you will eve
 r see! ALL AGES welcome!! Bring a blanket as we will be sitting on the flo
 or. You can find out more information about James Wand here: https://james
 wand.org/
LAST-MODIFIED:20230630T123652Z
LOCATION:Aledo Community Center
URL:https://eastparkercounty.ploud.net/news-events/epc-library-presents-ja
 mes-wand-spy-magician-1
END:VEVENT
BEGIN:VTIMEZONE
TZID:US/Central
X-LIC-LOCATION:US/Central
BEGIN:DAYLIGHT
DTSTART:20230312T030000
TZNAME:CDT
TZOFFSETFROM:-0600
TZOFFSETTO:-0500
END:DAYLIGHT
END:VTIMEZONE
END:VCALENDAR
