BEGIN:VCALENDAR
VERSION:2.0
PRODID:-//Plone.org//NONSGML plone.app.event//EN
X-WR-TIMEZONE:US/Central
BEGIN:VEVENT
SUMMARY:Cooking with AgriLife Extension at the Library
DTSTART;TZID=US/Central:20230627T180000
DTEND;TZID=US/Central:20230627T190000
DTSTAMP:20260420T091938Z
UID:302e6140d527408a8dd0b659e91a5c99@saas_stack_varnish:6080
CONTACT:Tracy Lambert Jack\, 8174416545\, programs@epclibrary.com
CREATED:20230626T172624Z
DESCRIPTION:Join the Texas A&M AgriLife Extension Service -- Parker Co. Nu
 trition and Health for a strawberry freezer jam demonstration where you wi
 ll help \nmake and then get to take some home with you! This is an ALL AGE
 S event!
LAST-MODIFIED:20230626T172644Z
LOCATION:East Parker County Library
URL:https://eastparkercounty.ploud.net/news-events/cooking-with-agrilife-e
 xtension-at-the-library
END:VEVENT
BEGIN:VTIMEZONE
TZID:US/Central
X-LIC-LOCATION:US/Central
BEGIN:DAYLIGHT
DTSTART:20230312T030000
TZNAME:CDT
TZOFFSETFROM:-0600
TZOFFSETTO:-0500
END:DAYLIGHT
END:VTIMEZONE
END:VCALENDAR
