BEGIN:VCALENDAR
VERSION:2.0
PRODID:-//Plone.org//NONSGML plone.app.event//EN
X-WR-TIMEZONE:US/Central
BEGIN:VEVENT
SUMMARY:Cooking with AgriLife Extension at the Library
DTSTART;TZID=US/Central:20230711T180000
DTEND;TZID=US/Central:20230711T190000
DTSTAMP:20260420T092010Z
UID:2790047c3a7f482a820c620ea62a34f6@saas_stack_varnish:6080
CONTACT:Tracy Lambert Jack\, 8174416545\, programs@epclibrary.com
CREATED:20230702T145637Z
DESCRIPTION:Join the Texas A&M AgriLife Extension Service -- Parker Co. Nu
 trition and Health for a class featuring healthy snacks. This is an ALL AG
 ES event!
LAST-MODIFIED:20230702T145652Z
LOCATION:East Parker County Library
URL:https://eastparkercounty.ploud.net/news-events/cooking-with-agrilife-e
 xtension-at-the-library-1
END:VEVENT
BEGIN:VTIMEZONE
TZID:US/Central
X-LIC-LOCATION:US/Central
BEGIN:DAYLIGHT
DTSTART:20230312T030000
TZNAME:CDT
TZOFFSETFROM:-0600
TZOFFSETTO:-0500
END:DAYLIGHT
END:VTIMEZONE
END:VCALENDAR
