BEGIN:VCALENDAR
VERSION:2.0
PRODID:-//Plone.org//NONSGML plone.app.event//EN
X-WR-TIMEZONE:US/Central
BEGIN:VEVENT
SUMMARY:Clearfork Creek Farm presentation at the Library
DTSTART;TZID=US/Central:20230629T180000
DTEND;TZID=US/Central:20230629T190000
DTSTAMP:20260420T091632Z
UID:cf03ade033a6477d8113c673cc3f01d8@saas_stack_varnish:6080
CONTACT:Tracy Lambert Jack\, 8174416545\, programs@epclibrary.com
CREATED:20230626T172819Z
DESCRIPTION:Join Clearfork Creek Farm at the EPC Library to learn more abo
 ut this farm's mission to provide fresh\, organic vegetables to food pantr
 ies and kitchens serving the food insecure and how you can get involved!
LAST-MODIFIED:20230626T172841Z
LOCATION:East Parker County Library
URL:https://eastparkercounty.ploud.net/news-events/clearfork-creek-farm-pr
 esentation-at-the-library
END:VEVENT
BEGIN:VTIMEZONE
TZID:US/Central
X-LIC-LOCATION:US/Central
BEGIN:DAYLIGHT
DTSTART:20230312T030000
TZNAME:CDT
TZOFFSETFROM:-0600
TZOFFSETTO:-0500
END:DAYLIGHT
END:VTIMEZONE
END:VCALENDAR
