BEGIN:VCALENDAR
VERSION:2.0
PRODID:-//Plone.org//NONSGML plone.app.event//EN
X-WR-TIMEZONE:US/Central
BEGIN:VEVENT
SUMMARY:Book Club at the Library
DTSTART;TZID=US/Central:20230613T090000
DTEND;TZID=US/Central:20230613T103000
DTSTAMP:20260420T091633Z
UID:41462904353e4554b3a64ce5a92e08fb@saas_stack_varnish:6080
CONTACT:Tracy Lambert Jack\, 8174416545\, epclibraryprograms@gmail.com
CREATED:20230612T200757Z
DESCRIPTION:Book club at the library for our grown-up patrons is this TUES
 DAY\, June 13th at 9AM. We will be discussing "Death in Mud Lick". Didn't 
 have time to finish the book? Perhaps not even a chance to start it? No wo
 rries! Join us for coffee\, tea\, and conversation about this book and oth
 ers.
LAST-MODIFIED:20230612T200801Z
LOCATION:East Parker County Library
URL:https://eastparkercounty.ploud.net/news-events/book-club-at-the-librar
 y
END:VEVENT
BEGIN:VTIMEZONE
TZID:US/Central
X-LIC-LOCATION:US/Central
BEGIN:DAYLIGHT
DTSTART:20230312T030000
TZNAME:CDT
TZOFFSETFROM:-0600
TZOFFSETTO:-0500
END:DAYLIGHT
END:VTIMEZONE
END:VCALENDAR
