BEGIN:VCALENDAR
VERSION:2.0
PRODID:-//Plone.org//NONSGML plone.app.event//EN
X-WR-TIMEZONE:US/Central
BEGIN:VEVENT
SUMMARY:Book Club at the Library
DTSTART;TZID=US/Central:20231017T090000
DTEND;TZID=US/Central:20231017T103000
DTSTAMP:20260420T091724Z
UID:296ecd168ec54cdc96f487811a0177fd@saas_stack_varnish:6080
CONTACT:Tracy Lambert Jack\, 8174416545\, programs@epclibrary.com
CREATED:20231013T201740Z
DESCRIPTION:Join us at the library to share your recent favorite reads (or
  alternatively\, those you would NOT recommend)\, plus give your suggestio
 ns as to what you would like to read at book club in 2024!  \nTuesday\, Oc
 tober 17th from 9-10:30AM. Coffee\, tea\, and conversation served!
LAST-MODIFIED:20231013T201746Z
LOCATION:East Parker County Library
URL:https://eastparkercounty.ploud.net/news-events/book-club-at-the-librar
 y-2
END:VEVENT
BEGIN:VTIMEZONE
TZID:US/Central
X-LIC-LOCATION:US/Central
BEGIN:DAYLIGHT
DTSTART:20230312T030000
TZNAME:CDT
TZOFFSETFROM:-0600
TZOFFSETTO:-0500
END:DAYLIGHT
END:VTIMEZONE
END:VCALENDAR
