BEGIN:VCALENDAR
VERSION:2.0
PRODID:-//Plone.org//NONSGML plone.app.event//EN
X-WR-TIMEZONE:US/Central
BEGIN:VEVENT
SUMMARY:Book Club at the Library
DTSTART;TZID=US/Central:20230711T090000
DTEND;TZID=US/Central:20230711T103000
DTSTAMP:20260420T091814Z
UID:65c72c0003c64e36a33ffa0ccd880426@saas_stack_varnish:6080
CONTACT:Tracy Lambert Jack\, 8174416545\, programs@epclibrary.com
CREATED:20230702T145833Z
DESCRIPTION:Grown-ups! Join us on Tuesday @ 9AM. We will be discussing "Th
 e Second Life of Mirielle West" by Amanda Skenandore. Coffee/Tea and conve
 rsation provided.
LAST-MODIFIED:20230702T145839Z
LOCATION:East Parker County Library
URL:https://eastparkercounty.ploud.net/news-events/book-club-at-the-librar
 y-1
END:VEVENT
BEGIN:VTIMEZONE
TZID:US/Central
X-LIC-LOCATION:US/Central
BEGIN:DAYLIGHT
DTSTART:20230312T030000
TZNAME:CDT
TZOFFSETFROM:-0600
TZOFFSETTO:-0500
END:DAYLIGHT
END:VTIMEZONE
END:VCALENDAR
