BEGIN:VCALENDAR
VERSION:2.0
PRODID:-//Plone.org//NONSGML plone.app.event//EN
X-WR-TIMEZONE:US/Central
BEGIN:VEVENT
SUMMARY:Bonus Spring Storytime at Two Sisters Teahouse
DTSTART;TZID=US/Central:20230417T103000
DTEND;TZID=US/Central:20230417T113000
DTSTAMP:20260420T110351Z
UID:07b029ebe94a4ff28b8653ef566a85c4@saas_stack_varnish:6080
CONTACT:Tracy Lambert Jack\, 8174416545\, programs@epclibrary.com
CREATED:20230415T223950Z
DESCRIPTION:Join the East Parker County Library Librarian on Location at t
 he Two Sisters Teahouse garden on Monday morning\, April 17th at 10:30AM\,
  for several Texas 2x2 books\, craft\, and snack!
LAST-MODIFIED:20230415T224002Z
LOCATION:Two Sisters Teahouse
URL:https://eastparkercounty.ploud.net/news-events/bonus-spring-storytime-
 at-two-sisters-teahouse
END:VEVENT
BEGIN:VTIMEZONE
TZID:US/Central
X-LIC-LOCATION:US/Central
BEGIN:DAYLIGHT
DTSTART:20230312T030000
TZNAME:CDT
TZOFFSETFROM:-0600
TZOFFSETTO:-0500
END:DAYLIGHT
END:VTIMEZONE
END:VCALENDAR
