BEGIN:VCALENDAR
VERSION:2.0
PRODID:-//Plone.org//NONSGML plone.app.event//EN
X-WR-TIMEZONE:US/Central
BEGIN:VEVENT
SUMMARY:BEE HIVES Workshop at the Library
DTSTART;TZID=US/Central:20230706T103000
DTEND;TZID=US/Central:20230706T113000
DTSTAMP:20260420T104119Z
UID:4abe753c90cb47668771d7ccca513169@saas_stack_varnish:6080
CONTACT:Tracy Lambert Jack\, 817-441-6545\, programs@epclibrary.com
CREATED:20230702T145008Z
DESCRIPTION:Learn about how bees work together and benefit our environment
 ! Participants will read a book about bees\, learn about pollination\, obs
 erve bee specimens from the Fort Worth Museum of Science and History\, and
  complete a bee house project. This workshop is best suited for our 6-12 y
 ear old friends. Waitlist available\; contact library for more information
 .
LAST-MODIFIED:20230702T145014Z
LOCATION:East Parker County Library
URL:https://eastparkercounty.ploud.net/news-events/bee-hives-workshop-at-t
 he-library
END:VEVENT
BEGIN:VTIMEZONE
TZID:US/Central
X-LIC-LOCATION:US/Central
BEGIN:DAYLIGHT
DTSTART:20230312T030000
TZNAME:CDT
TZOFFSETFROM:-0600
TZOFFSETTO:-0500
END:DAYLIGHT
END:VTIMEZONE
END:VCALENDAR
